BEGIN:VCALENDAR
VERSION:2.0
PRODID:-//Plone.org//NONSGML plone.app.event//EN
X-WR-TIMEZONE:Europe/Helsinki
BEGIN:VEVENT
SUMMARY:Avoimen tiedon hyödyntäminen liiketoiminnassa
DTSTART;TZID=Europe/Helsinki;VALUE=DATE-TIME:20180605T120000
DTEND;TZID=Europe/Helsinki;VALUE=DATE-TIME:20180605T160000
DTSTAMP;VALUE=DATE-TIME:20260420T055332Z
UID:3a79c796ecdf44688245d6823769ea3b
CREATED;VALUE=DATE-TIME:20180404T113839Z
DESCRIPTION:Avointa tietoa on tarjolla paljon\, mutta kuinka yritys voisi 
 sitä hyödyntää?
LAST-MODIFIED;VALUE=DATE-TIME:20180528T073111Z
LOCATION:Ravintola Riihikelo\, Riihivuori\, Riihivuorentie 313\, 40950 Muu
 rame
URL:https://www.jyu.fi/digipolku/tapahtumat/avoimen-tiedon-hyodyntaminen-l
 iiketoiminnassa
END:VEVENT
BEGIN:VTIMEZONE
TZID:Europe/Helsinki
X-LIC-LOCATION:Europe/Helsinki
BEGIN:DAYLIGHT
DTSTART;VALUE=DATE-TIME:20180325T040000
TZNAME:EEST
TZOFFSETFROM:+0200
TZOFFSETTO:+0300
END:DAYLIGHT
END:VTIMEZONE
END:VCALENDAR
