BEGIN:VCALENDAR
VERSION:2.0
PRODID:-//Plone.org//NONSGML plone.app.event//EN
X-WR-TIMEZONE:Europe/Helsinki
BEGIN:VEVENT
SUMMARY:Digimarkkinointi ja -myyntikanavat työpaja Hankasalmella
DTSTART;TZID=Europe/Helsinki;VALUE=DATE-TIME:20170114T100000
DTEND;TZID=Europe/Helsinki;VALUE=DATE-TIME:20170114T150000
DTSTAMP;VALUE=DATE-TIME:20260419T195611Z
UID:526d70a9c6fa4c36ab8a43aa1a7596ff
CREATED;VALUE=DATE-TIME:20161202T102742Z
DESCRIPTION:Millaisia digimarkkinointikanavia sinä voisit hyödyntää? S
 opisiko verkkokauppa myyntikanavaksesi?
LAST-MODIFIED;VALUE=DATE-TIME:20170109T122049Z
LOCATION:Revontulentie 1\, 41500 Hankasalmi
URL:https://www.jyu.fi/digipolku/tapahtumat/digimarkkinointi-hankasalmi
END:VEVENT
BEGIN:VTIMEZONE
TZID:Europe/Helsinki
X-LIC-LOCATION:Europe/Helsinki
BEGIN:STANDARD
DTSTART;VALUE=DATE-TIME:20161030T030000
TZNAME:EET
TZOFFSETFROM:+0300
TZOFFSETTO:+0200
END:STANDARD
END:VTIMEZONE
END:VCALENDAR
