BEGIN:VCALENDAR
VERSION:2.0
PRODID:-//Plone.org//NONSGML plone.app.event//EN
X-WR-TIMEZONE:Europe/Helsinki
BEGIN:VEVENT
SUMMARY:Maatalouden digiteknologiat
DTSTART;TZID=Europe/Helsinki;VALUE=DATE-TIME:20171204T120000
DTEND;TZID=Europe/Helsinki;VALUE=DATE-TIME:20171204T160000
DTSTAMP;VALUE=DATE-TIME:20260420T015051Z
UID:33f6b49d70e54ba994a7e59b66f49f14
CREATED;VALUE=DATE-TIME:20170811T071117Z
DESCRIPTION:Maatalouden digiteknologiat – uusia mahdollisuuksia maatalou
 selinkeinolle
LAST-MODIFIED;VALUE=DATE-TIME:20171130T114549Z
LOCATION:Revontulisali\, hotelli Revontuli\, Revontulentie 1\, 41500 Hanka
 salmi
URL:https://www.jyu.fi/digipolku/tapahtumat/maatalouden-digiteknologiat-1
END:VEVENT
BEGIN:VTIMEZONE
TZID:Europe/Helsinki
X-LIC-LOCATION:Europe/Helsinki
BEGIN:STANDARD
DTSTART;VALUE=DATE-TIME:20171029T030000
TZNAME:EET
TZOFFSETFROM:+0300
TZOFFSETTO:+0200
END:STANDARD
END:VTIMEZONE
END:VCALENDAR
