BEGIN:VCALENDAR
VERSION:2.0
PRODID:-//Plone.org//NONSGML plone.app.event//EN
X-WR-TIMEZONE:Europe/Helsinki
BEGIN:VEVENT
SUMMARY:Maksullinen Facebook-mainonta -työpaja
DTSTART;TZID=Europe/Helsinki;VALUE=DATE-TIME:20181030T130000
DTEND;TZID=Europe/Helsinki;VALUE=DATE-TIME:20181030T173000
DTSTAMP;VALUE=DATE-TIME:20260420T084404Z
UID:bb93b92b78704d498679a11d9b29be70
CREATED;VALUE=DATE-TIME:20180831T105903Z
DESCRIPTION:Yritys voi maksullisen Facebook-mainonnan avulla tavoittaa uus
 ia asiakkaita. Kohdentamalla mainontaa tavoitat juuri oikeat asiakkaat.
LAST-MODIFIED;VALUE=DATE-TIME:20180904T062239Z
LOCATION:Ruska Bar & Bistro\, Keskustie 46\, 43900 KINNULA
URL:https://www.jyu.fi/digipolku/tapahtumat/maksullinen-facebook-mainonta-
 tyopaja
END:VEVENT
BEGIN:VTIMEZONE
TZID:Europe/Helsinki
X-LIC-LOCATION:Europe/Helsinki
BEGIN:STANDARD
DTSTART;VALUE=DATE-TIME:20181028T030000
TZNAME:EET
TZOFFSETFROM:+0300
TZOFFSETTO:+0200
END:STANDARD
END:VTIMEZONE
END:VCALENDAR
