BEGIN:VCALENDAR
VERSION:2.0
PRODID:-//Plone.org//NONSGML plone.app.event//EN
X-WR-TIMEZONE:Europe/Helsinki
BEGIN:VEVENT
SUMMARY:Palveluiden kehittäminen
DTSTART;TZID=Europe/Helsinki;VALUE=DATE-TIME:20171109T130000
DTEND;TZID=Europe/Helsinki;VALUE=DATE-TIME:20171109T173000
DTSTAMP;VALUE=DATE-TIME:20260420T185733Z
UID:ad3dfca716f24af8ab1fc5f661c7dcd5
CREATED;VALUE=DATE-TIME:20170703T100402Z
DESCRIPTION:Hyvin toimivat palvelut syntyvät kun ymmärrämme asiakkaamme
  tarpeet ja käytöksen.
LAST-MODIFIED;VALUE=DATE-TIME:20171103T105742Z
LOCATION:Jussi-sali\, Keskusaukio 3\, Keuruu
URL:https://www.jyu.fi/digipolku/tapahtumat/palveluiden-kehittaminen-1
END:VEVENT
BEGIN:VTIMEZONE
TZID:Europe/Helsinki
X-LIC-LOCATION:Europe/Helsinki
BEGIN:STANDARD
DTSTART;VALUE=DATE-TIME:20171029T030000
TZNAME:EET
TZOFFSETFROM:+0300
TZOFFSETTO:+0200
END:STANDARD
END:VTIMEZONE
END:VCALENDAR
