BEGIN:VCALENDAR
VERSION:2.0
PRODID:-//Plone.org//NONSGML plone.app.event//EN
X-WR-TIMEZONE:Europe/Helsinki
BEGIN:VEVENT
SUMMARY:Palveluiden kehittämisen työpaja Viitasaarella
DTSTART;TZID=Europe/Helsinki;VALUE=DATE-TIME:20180214T130000
DTEND;TZID=Europe/Helsinki;VALUE=DATE-TIME:20180214T173000
DTSTAMP;VALUE=DATE-TIME:20260422T053511Z
UID:302628ec704f4c9b93a10a0d4f816dc7
CREATED;VALUE=DATE-TIME:20180110T074031Z
DESCRIPTION:Hyvin toimivat palvelut syntyvät kun ymmärrämme asiakkaamme
  tarpeet ja käytöksen.
LAST-MODIFIED;VALUE=DATE-TIME:20180110T074404Z
LOCATION:Kaupunginhallituksen huone\, kaupungintalo\, Keskitie 10\, 44500 
 Viitasaari
URL:https://www.jyu.fi/digipolku/tapahtumat/palveluiden-kehittamisen-tyopa
 ja-viitasaarella
END:VEVENT
BEGIN:VTIMEZONE
TZID:Europe/Helsinki
X-LIC-LOCATION:Europe/Helsinki
BEGIN:STANDARD
DTSTART;VALUE=DATE-TIME:20171029T030000
TZNAME:EET
TZOFFSETFROM:+0300
TZOFFSETTO:+0200
END:STANDARD
END:VTIMEZONE
END:VCALENDAR
