BEGIN:VCALENDAR
VERSION:2.0
PRODID:-//Plone.org//NONSGML plone.app.event//EN
X-WR-TIMEZONE:Europe/Helsinki
BEGIN:VEVENT
SUMMARY:Sosiaalisen median hyödyntäminen markkinoinnissa -työpaja Jouts
 assa
DTSTART;VALUE=DATE:20160927
DTEND;VALUE=DATE:20160928
DTSTAMP;VALUE=DATE-TIME:20260419T213525Z
UID:731763a5b7a14461b4d711a036dfb8c9
CREATED;VALUE=DATE-TIME:20160606T100353Z
DESCRIPTION:Osaatko käyttää somea tehokkaasti markkinoinnissa? Saatko a
 siakkaasi sitoutumaan somen avulla? Joko olet hyödyntänyt somea tuotekeh
 ityksessä?
LAST-MODIFIED;VALUE=DATE-TIME:20160919T115210Z
LOCATION:Joutsan kunnan valtuustosali\, Länsitie 7\, Joutsa
URL:https://www.jyu.fi/digipolku/tapahtumat/some-joutsa
END:VEVENT
END:VCALENDAR
