BEGIN:VCALENDAR
VERSION:2.0
PRODID:-//Plone.org//NONSGML plone.app.event//EN
X-WR-TIMEZONE:Europe/Helsinki
BEGIN:VEVENT
SUMMARY:Tehoa digimarkkinointiin
DTSTART;TZID=Europe/Helsinki;VALUE=DATE-TIME:20170606T130000
DTEND;TZID=Europe/Helsinki;VALUE=DATE-TIME:20170606T173000
DTSTAMP;VALUE=DATE-TIME:20260421T110838Z
UID:1176bfb948c94e519f11c21b48798927
CREATED;VALUE=DATE-TIME:20170411T110356Z
DESCRIPTION:Automaatiolla enemmän irti digimarkkinoinnista.
LAST-MODIFIED;VALUE=DATE-TIME:20170602T063003Z
LOCATION:Viitasaaren kaupungintalo\, Keskitie 10\, 44500 Viitasaari
URL:https://www.jyu.fi/digipolku/tapahtumat/tehoa-digimarkkinointiin
END:VEVENT
BEGIN:VTIMEZONE
TZID:Europe/Helsinki
X-LIC-LOCATION:Europe/Helsinki
BEGIN:DAYLIGHT
DTSTART;VALUE=DATE-TIME:20170326T040000
TZNAME:EEST
TZOFFSETFROM:+0200
TZOFFSETTO:+0300
END:DAYLIGHT
END:VTIMEZONE
END:VCALENDAR
