BEGIN:VCALENDAR
VERSION:2.0
PRODID:-//Plone.org//NONSGML plone.app.event//EN
X-WR-TIMEZONE:Europe/Helsinki
BEGIN:VEVENT
SUMMARY:Tietoturva & tietosuoja-asetus
DTSTART;TZID=Europe/Helsinki;VALUE=DATE-TIME:20171128T130000
DTEND;TZID=Europe/Helsinki;VALUE=DATE-TIME:20171128T173000
DTSTAMP;VALUE=DATE-TIME:20260420T191441Z
UID:04ca42cf223e400996018329ddb1db11
CREATED;VALUE=DATE-TIME:20171012T081650Z
DESCRIPTION:Kuinka huolehdit tietoturvasta?
LAST-MODIFIED;VALUE=DATE-TIME:20171122T094206Z
LOCATION:Viitasaaren kaupungintalon valtuustosali\, Keskitie 10\, 44500 Vi
 itasaari
URL:https://www.jyu.fi/digipolku/tapahtumat/tietoturva-tietosuoja-asetus
END:VEVENT
BEGIN:VTIMEZONE
TZID:Europe/Helsinki
X-LIC-LOCATION:Europe/Helsinki
BEGIN:STANDARD
DTSTART;VALUE=DATE-TIME:20171029T030000
TZNAME:EET
TZOFFSETFROM:+0300
TZOFFSETTO:+0200
END:STANDARD
END:VTIMEZONE
END:VCALENDAR
