BEGIN:VCALENDAR
VERSION:2.0
PRODID:-//Plone.org//NONSGML plone.app.event//EN
X-WR-TIMEZONE:Europe/Helsinki
BEGIN:VEVENT
SUMMARY:Tulevaisuus täällä tänään - digiteknologioiden mahdollisuude
 t mikro- ja pk-yrityksille
DTSTART;TZID=Europe/Helsinki;VALUE=DATE-TIME:20170510T133000
DTEND;TZID=Europe/Helsinki;VALUE=DATE-TIME:20170510T170000
DTSTAMP;VALUE=DATE-TIME:20260422T213529Z
UID:d9c7c85bb942494ea90fe73a4b6108b3
CREATED;VALUE=DATE-TIME:20170104T130848Z
DESCRIPTION:Mitä tarkoittaa 3D-tulostus\, Internet of Things (esineiden i
 nternet)\, konenäkö\, robotiikka tai drone? Mitä niillä voi tehdä ja 
 kuinka niitä voisi hyödyntää yrityksen liiketoiminnassa?
LAST-MODIFIED;VALUE=DATE-TIME:20170508T073306Z
LOCATION:Miilutie 4\, Petäjävesi
URL:https://www.jyu.fi/digipolku/tapahtumat/tulevaisuus-taalla-tanaan
END:VEVENT
BEGIN:VTIMEZONE
TZID:Europe/Helsinki
X-LIC-LOCATION:Europe/Helsinki
BEGIN:DAYLIGHT
DTSTART;VALUE=DATE-TIME:20170326T040000
TZNAME:EEST
TZOFFSETFROM:+0200
TZOFFSETTO:+0300
END:DAYLIGHT
END:VTIMEZONE
END:VCALENDAR
