BEGIN:VCALENDAR
VERSION:2.0
PRODID:-//Plone.org//NONSGML plone.app.event//EN
X-WR-TIMEZONE:Europe/Helsinki
BEGIN:VEVENT
SUMMARY:Digimarkkinointi & verkkonäkyvyyden parantaminen -työpaja Toivak
 assa
DTSTART;TZID=Europe/Helsinki;VALUE=DATE-TIME:20161116T140000
DTEND;TZID=Europe/Helsinki;VALUE=DATE-TIME:20161116T183000
DTSTAMP;VALUE=DATE-TIME:20260419T233039Z
UID:615f4f0e57e946aebe9e05aec50eb56c
CREATED;VALUE=DATE-TIME:20161012T100715Z
DESCRIPTION:Digimarkkinointi & verkkonäkyvyyden parantaminen - hyvien ver
 kkosivujen perusteet ja hakukoneoptimointi -työpaja. Millaiset ovat hyvä
 t ja toimivat verkkosivut? Miten parannan yrityksen verkkonäkyvyyttä ver
 kkosivujen ja hakukoneoptimoinnin avulla?
LAST-MODIFIED;VALUE=DATE-TIME:20161020T114358Z
LOCATION:Toivakan kirjasto\, Iltaruskontie 4\, Toivakka
URL:https://www.jyu.fi/digipolku/tapahtumat/verkkosivut-toivakka
END:VEVENT
BEGIN:VTIMEZONE
TZID:Europe/Helsinki
X-LIC-LOCATION:Europe/Helsinki
BEGIN:STANDARD
DTSTART;VALUE=DATE-TIME:20161030T030000
TZNAME:EET
TZOFFSETFROM:+0300
TZOFFSETTO:+0200
END:STANDARD
END:VTIMEZONE
END:VCALENDAR
