BEGIN:VCALENDAR
VERSION:2.0
PRODID:-//Plone.org//NONSGML plone.app.event//EN
X-WR-TIMEZONE:Europe/Helsinki
BEGIN:VEVENT
SUMMARY:Yrityksen kehittäminen digitalisaatiota hyödyntäen
DTSTART;TZID=Europe/Helsinki;VALUE=DATE-TIME:20190131T170000
DTEND;TZID=Europe/Helsinki;VALUE=DATE-TIME:20190131T193000
DTSTAMP;VALUE=DATE-TIME:20260421T214940Z
UID:b0a3baeaa9d54bc8ac3197b2bc9c4e27
CREATED;VALUE=DATE-TIME:20190115T100917Z
DESCRIPTION:Tietoisku MaKe-hankkeesta\, keskustelutilaisuus yrityksille ja
  yhteisöille ja Digipolku-työpaja Multian kunnantalolla
LAST-MODIFIED;VALUE=DATE-TIME:20190115T101057Z
LOCATION:Multian kunnantalo\, Multianraitti 3\, 42600 Multia
URL:https://www.jyu.fi/digipolku/tapahtumat/yrityksen-kehittaminen-digital
 isaatiota-hyodyntaen
END:VEVENT
BEGIN:VTIMEZONE
TZID:Europe/Helsinki
X-LIC-LOCATION:Europe/Helsinki
BEGIN:STANDARD
DTSTART;VALUE=DATE-TIME:20181028T030000
TZNAME:EET
TZOFFSETFROM:+0300
TZOFFSETTO:+0200
END:STANDARD
END:VTIMEZONE
END:VCALENDAR
